BEGIN:VCALENDAR
VERSION:2.0
PRODID:-//Reformierte Kirchgemeinde Münchenstein - ECPv6.15.20//NONSGML v1.0//EN
CALSCALE:GREGORIAN
METHOD:PUBLISH
X-ORIGINAL-URL:https://refk-mstein.ch
X-WR-CALDESC:Veranstaltungen für Reformierte Kirchgemeinde Münchenstein
REFRESH-INTERVAL;VALUE=DURATION:PT1H
X-Robots-Tag:noindex
X-PUBLISHED-TTL:PT1H
BEGIN:VTIMEZONE
TZID:Europe/Zurich
BEGIN:DAYLIGHT
TZOFFSETFROM:+0100
TZOFFSETTO:+0200
TZNAME:CEST
DTSTART:20250330T010000
END:DAYLIGHT
BEGIN:STANDARD
TZOFFSETFROM:+0200
TZOFFSETTO:+0100
TZNAME:CET
DTSTART:20251026T010000
END:STANDARD
BEGIN:DAYLIGHT
TZOFFSETFROM:+0100
TZOFFSETTO:+0200
TZNAME:CEST
DTSTART:20260329T010000
END:DAYLIGHT
BEGIN:STANDARD
TZOFFSETFROM:+0200
TZOFFSETTO:+0100
TZNAME:CET
DTSTART:20261025T010000
END:STANDARD
BEGIN:DAYLIGHT
TZOFFSETFROM:+0100
TZOFFSETTO:+0200
TZNAME:CEST
DTSTART:20270328T010000
END:DAYLIGHT
BEGIN:STANDARD
TZOFFSETFROM:+0200
TZOFFSETTO:+0100
TZNAME:CET
DTSTART:20271031T010000
END:STANDARD
END:VTIMEZONE
BEGIN:VEVENT
DTSTART;TZID=Europe/Zurich:20260531T101500
DTEND;TZID=Europe/Zurich:20260531T111500
DTSTAMP:20260419T182027
CREATED:20260417T083126Z
LAST-MODIFIED:20260417T083126Z
UID:10007071-1780222500-1780226100@refk-mstein.ch
SUMMARY:Kinderkirche
DESCRIPTION:10.15 Uhr\, Gottesdienst mit Kinderkirche\nPredigt: Pfr. Markus Perrenoud \n 
URL:https://refk-mstein.ch/event/kinderkirche-2/
LOCATION:KGH\, Lärchenstrasse 3\, Münchenstein\, 4142
CATEGORIES:Gottesdienste,Kinder und Familien
ATTACH;FMTTYPE=image/jpeg:https://refk-mstein.ch/wp-content/uploads/2024/02/kinderkirche.jpg
END:VEVENT
BEGIN:VEVENT
DTSTART;TZID=Europe/Zurich:20260531T170000
DTEND;TZID=Europe/Zurich:20260531T180000
DTSTAMP:20260419T182027
CREATED:20251215T140851Z
LAST-MODIFIED:20260417T071843Z
UID:10006215-1780246800-1780250400@refk-mstein.ch
SUMMARY:Familiengottesdienst mit Tauferinnerung\, modern
DESCRIPTION:17:00 Uhr\, mit Sängerin\nPredigt: Pfr. Markus Perrenoud
URL:https://refk-mstein.ch/event/tauferinnerung/
LOCATION:KGH\, Lärchenstrasse 3\, Münchenstein\, 4142
CATEGORIES:Gottesdienste
ATTACH;FMTTYPE=image/jpeg:https://refk-mstein.ch/wp-content/uploads/2024/02/refk-mstein-KGH-Gottesdienste.jpg
END:VEVENT
BEGIN:VEVENT
DTSTART;TZID=Europe/Zurich:20260602T140000
DTEND;TZID=Europe/Zurich:20260602T170000
DTSTAMP:20260419T182027
CREATED:20260219T074123Z
LAST-MODIFIED:20260219T074239Z
UID:10006651-1780408800-1780419600@refk-mstein.ch
SUMMARY:Kreativ Gruppe
DESCRIPTION:Wir sind eine Gruppe\, die sich regelmässig zur Pflege unseres Hobbys und der Gemeinschaft trifft.  \nSchwerpunktmässig arbeiten wir mit Textilien. Das Resultat unserer kreativen Arbeiten ist am Bazar der Kirchgemeinde zu sehen – und zu kaufen! Wer Freude am Werken mit Gleichgesinnten hat\, ist bei uns herzlich willkommen. Wir treffen uns jeweils am Dienstag und Donnerstag Nachmittag von 14 bis 17 Uhr im Kirchgemeindehaus (ausser Schulferien). Interessierte sind herzlich eingeladen bei uns vorbeizuschauen. \nKontakt:\nSekretariat \nTel.: 061 411 96 74
URL:https://refk-mstein.ch/event/kreativ-gruppe-2-2-4-2/2026-06-02/
LOCATION:KGH\, Lärchenstrasse 3\, Münchenstein\, 4142
CATEGORIES:Erwachsene
ATTACH;FMTTYPE=image/jpeg:https://refk-mstein.ch/wp-content/uploads/2024/02/anlass-kreativ.jpg
END:VEVENT
BEGIN:VEVENT
DTSTART;TZID=Europe/Zurich:20260602T140000
DTEND;TZID=Europe/Zurich:20260602T170000
DTSTAMP:20260419T182027
CREATED:20260417T083943Z
LAST-MODIFIED:20260417T083943Z
UID:10007074-1780408800-1780419600@refk-mstein.ch
SUMMARY:Sommer-Café
DESCRIPTION:Verweilen\, Spielen\, Geniessen!\nIm Sommer öffnen wir zum dritten Mal unser Selbstbedienungskaffee auf dem Kirchplatz.\nGeniessen Sie Kaffee\, kalte Getränke und Gasparini–Glaces\, nehmen Sie sich Zeit zum Plaudern\, oder besuchen Sie unsere neue Foto-Ausstellung\, die zeitgleich im Foyer unseres KGHs stattfindet.\nFür die Kinder gibt es viele Spielmöglichkeiten\, der Brunnen steht zum Planschen bereit. Zudem gibt es jeweils mittwochs einen grossen Basteltisch.
URL:https://refk-mstein.ch/event/sommer-cafe/2026-06-02/
LOCATION:KGH\, Lärchenstrasse 3\, Münchenstein\, 4142
CATEGORIES:Anlässe
ATTACH;FMTTYPE=image/jpeg:https://refk-mstein.ch/wp-content/uploads/2024/05/karten-anlaesse-Sommer-Kaffee.jpg
END:VEVENT
BEGIN:VEVENT
DTSTART;TZID=Europe/Zurich:20260602T183000
DTEND;TZID=Europe/Zurich:20260602T220000
DTSTAMP:20260419T182027
CREATED:20251215T150754Z
LAST-MODIFIED:20251215T151213Z
UID:10006252-1780425000-1780437600@refk-mstein.ch
SUMMARY:Nähatelier Lorisa
DESCRIPTION:Frauen mit Migrationshintergrund\, die gerne handwerklich arbeiten und eine vertrauensvolle Atmosphäre schätzen\, sind herzlich willkommen. Aus gebrauchten Stoffen werden verschiedene Gegenstände hergestellt: Handtaschen\, Kissenbezüge\, Schmuck. \nDie Kaffeepause bietet Gelegenheit zum Plaudern und Kennenlernen. Ebenso haben die Teilnehmenden die Möglichkeit\, Seelsorge und Begleitung in Lebensfragen in Anspruch zu nehmen. Die Kurse finden jährlich in zwei Blöcken statt: März bis Juni und August bis November\, jeweils 2 mal pro Woche. \nKontakt:\nLorna Barra (pastora)\npastoralo [at] yahoo.es \nTel.: +41 76 257 36 70
URL:https://refk-mstein.ch/event/naehatelier-lorisa-2/2026-06-02/
LOCATION:KGH\, Lärchenstrasse 3\, Münchenstein\, 4142
CATEGORIES:Erwachsene
ATTACH;FMTTYPE=image/jpeg:https://refk-mstein.ch/wp-content/uploads/2024/02/anlass-lorisa.jpg
END:VEVENT
BEGIN:VEVENT
DTSTART;TZID=Europe/Zurich:20260603T140000
DTEND;TZID=Europe/Zurich:20260603T154500
DTSTAMP:20260419T182027
CREATED:20240523T115915Z
LAST-MODIFIED:20260417T082913Z
UID:10007067-1780495200-1780501500@refk-mstein.ch
SUMMARY:Kinder-Atelier
DESCRIPTION:Schneiden\, kleben\, malen …\nFreies Basteln!\nDer Fantasie sind keine Grenzen gesetzt. \nKommt doch vorbei und macht mit! \nFür Fragen stehe ich gerne zur Verfügung:\nMichèle Tanner\, 077 267 64 62
URL:https://refk-mstein.ch/event/kinder-atelier-3/2026-06-03/
LOCATION:KGH\, Lärchenstrasse 3\, Münchenstein\, 4142
CATEGORIES:Aktuell,KInder
ATTACH;FMTTYPE=image/jpeg:https://refk-mstein.ch/wp-content/uploads/2024/02/Kinder-atelier-mit-rand.jpg
END:VEVENT
BEGIN:VEVENT
DTSTART;TZID=Europe/Zurich:20260603T140000
DTEND;TZID=Europe/Zurich:20260603T170000
DTSTAMP:20260419T182027
CREATED:20260417T083943Z
LAST-MODIFIED:20260417T083943Z
UID:10007075-1780495200-1780506000@refk-mstein.ch
SUMMARY:Sommer-Café
DESCRIPTION:Verweilen\, Spielen\, Geniessen!\nIm Sommer öffnen wir zum dritten Mal unser Selbstbedienungskaffee auf dem Kirchplatz.\nGeniessen Sie Kaffee\, kalte Getränke und Gasparini–Glaces\, nehmen Sie sich Zeit zum Plaudern\, oder besuchen Sie unsere neue Foto-Ausstellung\, die zeitgleich im Foyer unseres KGHs stattfindet.\nFür die Kinder gibt es viele Spielmöglichkeiten\, der Brunnen steht zum Planschen bereit. Zudem gibt es jeweils mittwochs einen grossen Basteltisch.
URL:https://refk-mstein.ch/event/sommer-cafe/2026-06-03/
LOCATION:KGH\, Lärchenstrasse 3\, Münchenstein\, 4142
CATEGORIES:Anlässe
ATTACH;FMTTYPE=image/jpeg:https://refk-mstein.ch/wp-content/uploads/2024/05/karten-anlaesse-Sommer-Kaffee.jpg
END:VEVENT
BEGIN:VEVENT
DTSTART;TZID=Europe/Zurich:20260603T160000
DTEND;TZID=Europe/Zurich:20260603T190000
DTSTAMP:20260419T182027
CREATED:20251215T155921Z
LAST-MODIFIED:20251215T160512Z
UID:10006382-1780502400-1780513200@refk-mstein.ch
SUMMARY:DO IT NOW – JUGENDTREFF
DESCRIPTION:Jeden Mittwoch von 16:00 – 19 Uhr sind die Jugendräume des Kirchgemeindehauses für alle Jugendlichen ab der 7. Klasse offen.\nBillard\, Döggelikasten\, Leinwand zum Gamen und vieles mehr!\nDie Sofaecken laden zum Chillen ein\, es gibt eine Bar mit Getränken und feinen Snacks. Um 18:00 Uhr gibt es jeweils ein gemeinsames Abendessen mit Pizza\, Pasta oder sonstigen jugendkonformen Menus :). \n Instagram \nKontakt:\nMichèle Tanner\, Sozialdiakonin i.A.\nm.tanner [at] refk-mstein.ch\n+41 77 267 64 621
URL:https://refk-mstein.ch/event/do-it-now-jugendtreff-3-2/2026-06-03/
LOCATION:KGH\, Lärchenstrasse 3\, Münchenstein\, 4142
CATEGORIES:Aktuell,Jugendliche
ATTACH;FMTTYPE=image/jpeg:https://refk-mstein.ch/wp-content/uploads/2024/05/karten-anlaesse-Jugendtreff.jpg
END:VEVENT
BEGIN:VEVENT
DTSTART;TZID=Europe/Zurich:20260603T193000
DTEND;TZID=Europe/Zurich:20260603T203000
DTSTAMP:20260419T182027
CREATED:20260417T075706Z
LAST-MODIFIED:20260417T084325Z
UID:10007043-1780515000-1780518600@refk-mstein.ch
SUMMARY:Können Religionen Frieden?
DESCRIPTION:Vernissage zur Foto-Ausstellung\nMit Impuls von Alexandra Flury-Schölch\,\nStudienleiterin mission 21 \nReligionen haben keinen guten Ruf\, was ihre Rolle in Konflikten und Kriegen betrifft. Geht es auch anders?\nWelche positiven Aufgaben können Religionen für die Friedensförderung und Traumabewältigung übernehmen?\nStudienleiterin Alexandra Flury-Schölch berichtet aus der Friedensarbeit von mission21 und führt in unsere neue Ausstellung ein. \n 
URL:https://refk-mstein.ch/event/koennen-religionen-frieden/
LOCATION:KGH\, Lärchenstrasse 3\, Münchenstein\, 4142
CATEGORIES:Anlässe
ATTACH;FMTTYPE=image/jpeg:https://refk-mstein.ch/wp-content/uploads/2026/04/ausstellung.jpg
END:VEVENT
BEGIN:VEVENT
DTSTART;TZID=Europe/Zurich:20260603T201500
DTEND;TZID=Europe/Zurich:20260603T220000
DTSTAMP:20260419T182027
CREATED:20260219T072754Z
LAST-MODIFIED:20260219T073041Z
UID:10005376-1780517700-1780524000@refk-mstein.ch
SUMMARY:Chor-Lab
DESCRIPTION:Proben jeden Mittwoch (ausser Schulferien)\nKontakt: Tatjana Gazdik\, hubergazdik@sunrise.ch
URL:https://refk-mstein.ch/event/chor-lab-2-2-2/2026-06-03/
LOCATION:KGH\, Lärchenstrasse 3\, Münchenstein\, 4142
CATEGORIES:Chorproben
ATTACH;FMTTYPE=image/jpeg:https://refk-mstein.ch/wp-content/uploads/2024/02/anlass-chorlab.jpg
END:VEVENT
BEGIN:VEVENT
DTSTART;TZID=Europe/Zurich:20260604T140000
DTEND;TZID=Europe/Zurich:20260604T170000
DTSTAMP:20260419T182027
CREATED:20240628T080349Z
LAST-MODIFIED:20260417T080150Z
UID:10007046-1780581600-1780592400@refk-mstein.ch
SUMMARY:Damen & Herrenjass
DESCRIPTION:Alle zwei Wochen – parallel zum Kaffeetreff – treffen wir uns ab 14 Uhr zu einem gemütlichen Jass im Kirchgemeindehaus.\nWir pflegen einen kollegialen Jass-Stil\, die Geselligkeit steht im Vordergrund. Ein Z’Vieri und ein paar lockere Sprüche gibt es inklusive! Kommen Sie doch einmal zu einem Schnupperbesuch vorbei\, die Teilnahme ist kostenlos. \nKontakt:\nPfarrer Markus Perrenoud\nTel.: +41 77 493 21 36 \nund das Sekretariat\nTel.: 061 411 96 74
URL:https://refk-mstein.ch/event/damen-herrenjass/2026-06-04/
LOCATION:KGH\, Lärchenstrasse 3\, Münchenstein\, 4142
CATEGORIES:Damen und Herrenjass,Golden Agers
ATTACH;FMTTYPE=image/jpeg:https://refk-mstein.ch/wp-content/uploads/2024/05/karten-anlaesse-Jassen.jpg
END:VEVENT
BEGIN:VEVENT
DTSTART;TZID=Europe/Zurich:20260604T143000
DTEND;TZID=Europe/Zurich:20260604T163000
DTSTAMP:20260419T182027
CREATED:20260417T080457Z
LAST-MODIFIED:20260417T080627Z
UID:10007052-1780583400-1780590600@refk-mstein.ch
SUMMARY:Kaffeetreff
DESCRIPTION:Die Gruppe «Sorge für den Mitmenschen» lädt jeden 1. und 3. Donnerstag im Monat von 14.30 bis 16.30 Uhr zum Kaffeetreff im Kirchgemeindehaus ein. \nJeweils an Fasnacht\, Ostern\, Santichlaus und Weihnachten bieten wir ein spezielles Programm. Im Sommer treffen wir uns an einem Nachmittag in der Waldhütte von Münchenstein. Eingeladen sind alle\, besonders auch jene Menschen\, welche der Einsamkeit entrinnen wollen. Die Betreuerinnen helfen Ihnen gerne\, sich bei uns wohl zu fühlen. Gerne holen wir Sie zu Hause ab. \nZum Kaffeetreff gehört eine Ferienwoche im Frühling. \nKontakt: \nKontakt:\nPfarrer Hansueli Meier \nTel.: +41 76 303 48 02 \nund das Sekretariat \nTel.: 061 411 96 74
URL:https://refk-mstein.ch/event/kaffeetreff-2-2/2026-06-04/
LOCATION:KGH\, Lärchenstrasse 3\, Münchenstein\, 4142
CATEGORIES:Golden Agers,Kaffeetreff
ATTACH;FMTTYPE=image/jpeg:https://refk-mstein.ch/wp-content/uploads/2024/05/karten-anlaesse-Kaffeetreff.jpg
END:VEVENT
BEGIN:VEVENT
DTSTART;TZID=Europe/Zurich:20260604T193000
DTEND;TZID=Europe/Zurich:20260604T213000
DTSTAMP:20260419T182027
CREATED:20251215T142339Z
LAST-MODIFIED:20251215T152429Z
UID:10001597-1780601400-1780608600@refk-mstein.ch
SUMMARY:Jubilate Chor
DESCRIPTION:Der Jubilate Chor\, anno 1926 gegründet\, ist eine dynamische Gruppe von rund 20 aktiven Sängerinnen und Sängern\, geleitet von unserer Dirigentin Ilse Zeuner. \nHöhepunkt des Jahres ist unser Herbstkonzert mit Orchester und talentierten SolistInnen. Daneben erfreuen wir unsere Gemeinde über das ganze Jahr an kirchlichen Feiertagen und besonderen Anlässen mit musikalischen Darbietungen. \nUnsere Proben finden jeweils am Donnerstagabend von 19.30 bis 21.30 Uhr im Kirchgemeindehaus statt (ausser in den Schulferien). Gerne können Sie bei uns mitsingen oder Mitglied werden. Auch laden wir singfreudige Menschen herzlich ein\, als Gastsängerinnen und Gastsänger an unseren vielfältigen Projekten mitzuwirken. Interessiert? Dann kommen Sie einfach einmal schnuppern. \nWeitere Informationen finden Sie unter www.jubilate-mstein.ch
URL:https://refk-mstein.ch/event/jubilate-chor-2-2/2026-06-04/
LOCATION:KGH\, Lärchenstrasse 3\, Münchenstein\, 4142
CATEGORIES:Chorproben,Erwachsene
ATTACH;FMTTYPE=image/jpeg:https://refk-mstein.ch/wp-content/uploads/2024/02/jubilate-chor-refk-mstein.jpg
END:VEVENT
BEGIN:VEVENT
DTSTART;TZID=Europe/Zurich:20260605T093000
DTEND;TZID=Europe/Zurich:20260605T113000
DTSTAMP:20260419T182027
CREATED:20241218T154023Z
LAST-MODIFIED:20260225T083137Z
UID:10006969-1780651800-1780659000@refk-mstein.ch
SUMMARY:Offener Eltern-Kind-Treff
DESCRIPTION:Für Eltern mit Kindern von 0 bis 5 Jahre \nJeden Freitagmorgen (Ausnahme Schulferien) sind alle Eltern unabhängig von ihrer Konfession und Kirchenzugehörigkeit eingeladen\, mit Ihren Kleinkindern in lockerer Atmosphäre einen schönen Vormittag zu erleben. Wir starten mit einem Singkreis\, essen Znüni und basteln viel. Natürlich gibt es auch tolle Spielsachen und Platz zum Toben. Das Angebot ist kostenlos\, eine Anmeldung ist nicht nötig. \nKontakt:\nMichèle Tanner\, Sozialdiakonin i.A.\n077 267 64 62 oder unter m.tanner@refk-mstein.ch \nOder\nStefanie Schweri\, Familienpastoral\n077 266 36 42 oder unter\nschweri@pfarrei-muenchenstein.ch
URL:https://refk-mstein.ch/event/offener-eltern-kind-treff-3-2/2026-06-05/
LOCATION:KGH\, Lärchenstrasse 3\, Münchenstein\, 4142
CATEGORIES:Aktuell,KInder
ATTACH;FMTTYPE=image/jpeg:https://refk-mstein.ch/wp-content/uploads/2024/02/eltern-kind-treff.jpg
END:VEVENT
BEGIN:VEVENT
DTSTART;TZID=Europe/Zurich:20260607T101500
DTEND;TZID=Europe/Zurich:20260607T111500
DTSTAMP:20260419T182027
CREATED:20260417T072028Z
LAST-MODIFIED:20260417T072028Z
UID:10007035-1780827300-1780830900@refk-mstein.ch
SUMMARY:Gottesdienst\, Einsetzung Kipf
DESCRIPTION:10.15 Uhr\, mit Abendmahl\, Einsetzung Kipf\nPredigt: Pfr. Markus Perrenoud\nAnschliessend Kirchenkaffee
URL:https://refk-mstein.ch/event/gottesdienst-einsetzung-kipf/
LOCATION:Dorfkirche\, Kirchgasse 2\, Münchenstein\, 4142\, Schweiz
CATEGORIES:Gottesdienste
ATTACH;FMTTYPE=image/jpeg:https://refk-mstein.ch/wp-content/uploads/2024/05/karten-anlaesse-dorfkirche.jpg
END:VEVENT
BEGIN:VEVENT
DTSTART;TZID=Europe/Zurich:20260607T160000
DTEND;TZID=Europe/Zurich:20260607T170000
DTSTAMP:20260419T182027
CREATED:20260417T072339Z
LAST-MODIFIED:20260417T072339Z
UID:10007036-1780848000-1780851600@refk-mstein.ch
SUMMARY:Gedenk-Gottesdienst für die Verstorbenen
DESCRIPTION:16.00 Uhr Stiftung Hofmatt\nLiturgie: Pfr. Markus Perrenoud und Team
URL:https://refk-mstein.ch/event/gedenk-gottesdienst/
LOCATION:Stiftung Hofmatt\, Pumpwerkstrasse 3\, Münchenstein\, Basel-Landschaft\, 4142\, Schweiz
CATEGORIES:Gottesdienste
ATTACH;FMTTYPE=image/jpeg:https://refk-mstein.ch/wp-content/uploads/2024/02/anlaesse-hofmatt.jpg
END:VEVENT
BEGIN:VEVENT
DTSTART;TZID=Europe/Zurich:20260609T140000
DTEND;TZID=Europe/Zurich:20260609T170000
DTSTAMP:20260419T182027
CREATED:20260219T074123Z
LAST-MODIFIED:20260219T074239Z
UID:10006652-1781013600-1781024400@refk-mstein.ch
SUMMARY:Kreativ Gruppe
DESCRIPTION:Wir sind eine Gruppe\, die sich regelmässig zur Pflege unseres Hobbys und der Gemeinschaft trifft.  \nSchwerpunktmässig arbeiten wir mit Textilien. Das Resultat unserer kreativen Arbeiten ist am Bazar der Kirchgemeinde zu sehen – und zu kaufen! Wer Freude am Werken mit Gleichgesinnten hat\, ist bei uns herzlich willkommen. Wir treffen uns jeweils am Dienstag und Donnerstag Nachmittag von 14 bis 17 Uhr im Kirchgemeindehaus (ausser Schulferien). Interessierte sind herzlich eingeladen bei uns vorbeizuschauen. \nKontakt:\nSekretariat \nTel.: 061 411 96 74
URL:https://refk-mstein.ch/event/kreativ-gruppe-2-2-4-2/2026-06-09/
LOCATION:KGH\, Lärchenstrasse 3\, Münchenstein\, 4142
CATEGORIES:Erwachsene
ATTACH;FMTTYPE=image/jpeg:https://refk-mstein.ch/wp-content/uploads/2024/02/anlass-kreativ.jpg
END:VEVENT
BEGIN:VEVENT
DTSTART;TZID=Europe/Zurich:20260609T140000
DTEND;TZID=Europe/Zurich:20260609T170000
DTSTAMP:20260419T182027
CREATED:20260417T083943Z
LAST-MODIFIED:20260417T083943Z
UID:10007076-1781013600-1781024400@refk-mstein.ch
SUMMARY:Sommer-Café
DESCRIPTION:Verweilen\, Spielen\, Geniessen!\nIm Sommer öffnen wir zum dritten Mal unser Selbstbedienungskaffee auf dem Kirchplatz.\nGeniessen Sie Kaffee\, kalte Getränke und Gasparini–Glaces\, nehmen Sie sich Zeit zum Plaudern\, oder besuchen Sie unsere neue Foto-Ausstellung\, die zeitgleich im Foyer unseres KGHs stattfindet.\nFür die Kinder gibt es viele Spielmöglichkeiten\, der Brunnen steht zum Planschen bereit. Zudem gibt es jeweils mittwochs einen grossen Basteltisch.
URL:https://refk-mstein.ch/event/sommer-cafe/2026-06-09/
LOCATION:KGH\, Lärchenstrasse 3\, Münchenstein\, 4142
CATEGORIES:Anlässe
ATTACH;FMTTYPE=image/jpeg:https://refk-mstein.ch/wp-content/uploads/2024/05/karten-anlaesse-Sommer-Kaffee.jpg
END:VEVENT
BEGIN:VEVENT
DTSTART;TZID=Europe/Zurich:20260609T183000
DTEND;TZID=Europe/Zurich:20260609T220000
DTSTAMP:20260419T182027
CREATED:20251215T150754Z
LAST-MODIFIED:20251215T151213Z
UID:10006253-1781029800-1781042400@refk-mstein.ch
SUMMARY:Nähatelier Lorisa
DESCRIPTION:Frauen mit Migrationshintergrund\, die gerne handwerklich arbeiten und eine vertrauensvolle Atmosphäre schätzen\, sind herzlich willkommen. Aus gebrauchten Stoffen werden verschiedene Gegenstände hergestellt: Handtaschen\, Kissenbezüge\, Schmuck. \nDie Kaffeepause bietet Gelegenheit zum Plaudern und Kennenlernen. Ebenso haben die Teilnehmenden die Möglichkeit\, Seelsorge und Begleitung in Lebensfragen in Anspruch zu nehmen. Die Kurse finden jährlich in zwei Blöcken statt: März bis Juni und August bis November\, jeweils 2 mal pro Woche. \nKontakt:\nLorna Barra (pastora)\npastoralo [at] yahoo.es \nTel.: +41 76 257 36 70
URL:https://refk-mstein.ch/event/naehatelier-lorisa-2/2026-06-09/
LOCATION:KGH\, Lärchenstrasse 3\, Münchenstein\, 4142
CATEGORIES:Erwachsene
ATTACH;FMTTYPE=image/jpeg:https://refk-mstein.ch/wp-content/uploads/2024/02/anlass-lorisa.jpg
END:VEVENT
BEGIN:VEVENT
DTSTART;TZID=Europe/Zurich:20260609T193000
DTEND;TZID=Europe/Zurich:20260609T220000
DTSTAMP:20260419T182027
CREATED:20260417T074557Z
LAST-MODIFIED:20260417T084416Z
UID:10007042-1781033400-1781042400@refk-mstein.ch
SUMMARY:Männerpalaver\, mit Volldampf voraus
DESCRIPTION:Mit Volldampf voraus\nFaszination Dampflok mit Roland Weber \nDer Münchensteiner Roland Weber referiert über Geschichte und Technik der Dampflokomotiven und lässt mit Bildern und Erinnerungen Bubenträume wachwerden. \n			\n			\n				\n				\n				\n				\n			\n				\n				\n				\n				\n				\n				\n				Jetzt anmelden\n			\n			\n				\n				\n				\n				\n				\n				Jetzt anmelden
URL:https://refk-mstein.ch/event/maennerpalaver-volldampf/
LOCATION:KGH\, Lärchenstrasse 3\, Münchenstein\, 4142
CATEGORIES:Anlässe,jetzt anmelden
ATTACH;FMTTYPE=image/jpeg:https://refk-mstein.ch/wp-content/uploads/2024/02/maennerpalaver-refk-mstein.jpg
END:VEVENT
BEGIN:VEVENT
DTSTART;TZID=Europe/Zurich:20260610T140000
DTEND;TZID=Europe/Zurich:20260610T154500
DTSTAMP:20260419T182027
CREATED:20240523T115915Z
LAST-MODIFIED:20260417T082913Z
UID:10007068-1781100000-1781106300@refk-mstein.ch
SUMMARY:Kinder-Atelier
DESCRIPTION:Schneiden\, kleben\, malen …\nFreies Basteln!\nDer Fantasie sind keine Grenzen gesetzt. \nKommt doch vorbei und macht mit! \nFür Fragen stehe ich gerne zur Verfügung:\nMichèle Tanner\, 077 267 64 62
URL:https://refk-mstein.ch/event/kinder-atelier-3/2026-06-10/
LOCATION:KGH\, Lärchenstrasse 3\, Münchenstein\, 4142
CATEGORIES:Aktuell,KInder
ATTACH;FMTTYPE=image/jpeg:https://refk-mstein.ch/wp-content/uploads/2024/02/Kinder-atelier-mit-rand.jpg
END:VEVENT
BEGIN:VEVENT
DTSTART;TZID=Europe/Zurich:20260610T140000
DTEND;TZID=Europe/Zurich:20260610T170000
DTSTAMP:20260419T182027
CREATED:20260417T083943Z
LAST-MODIFIED:20260417T083943Z
UID:10007077-1781100000-1781110800@refk-mstein.ch
SUMMARY:Sommer-Café
DESCRIPTION:Verweilen\, Spielen\, Geniessen!\nIm Sommer öffnen wir zum dritten Mal unser Selbstbedienungskaffee auf dem Kirchplatz.\nGeniessen Sie Kaffee\, kalte Getränke und Gasparini–Glaces\, nehmen Sie sich Zeit zum Plaudern\, oder besuchen Sie unsere neue Foto-Ausstellung\, die zeitgleich im Foyer unseres KGHs stattfindet.\nFür die Kinder gibt es viele Spielmöglichkeiten\, der Brunnen steht zum Planschen bereit. Zudem gibt es jeweils mittwochs einen grossen Basteltisch.
URL:https://refk-mstein.ch/event/sommer-cafe/2026-06-10/
LOCATION:KGH\, Lärchenstrasse 3\, Münchenstein\, 4142
CATEGORIES:Anlässe
ATTACH;FMTTYPE=image/jpeg:https://refk-mstein.ch/wp-content/uploads/2024/05/karten-anlaesse-Sommer-Kaffee.jpg
END:VEVENT
BEGIN:VEVENT
DTSTART;TZID=Europe/Zurich:20260610T143000
DTEND;TZID=Europe/Zurich:20260610T170000
DTSTAMP:20260419T182027
CREATED:20260417T081103Z
LAST-MODIFIED:20260417T084504Z
UID:10007059-1781101800-1781110800@refk-mstein.ch
SUMMARY:Horizonte
DESCRIPTION:Allzeit bereit\n – die Pfadi Münchenstein stellt sich vor \n«Mit Freude dabei» – mit diesem Wahlspruch gestalten die Pfadfinderinnen und Pfadfinder von Münchenstein jede Woche ein tolles Kinder- und Jugendprogramm. Leiterinnen und Leiter erzählen vom Pfadi-Leben.
URL:https://refk-mstein.ch/event/horizonte-allzeit-bereit/
LOCATION:Römisch-katholische Pfarrei\, Loogstrasse 22\, Münchenstein\, Baselland\, 4142\, Schweiz
CATEGORIES:Anlässe
ATTACH;FMTTYPE=image/jpeg:https://refk-mstein.ch/wp-content/uploads/2024/08/karten-anlaesse-Nachmittage.jpg
END:VEVENT
BEGIN:VEVENT
DTSTART;TZID=Europe/Zurich:20260610T160000
DTEND;TZID=Europe/Zurich:20260610T190000
DTSTAMP:20260419T182027
CREATED:20251215T155921Z
LAST-MODIFIED:20251215T160512Z
UID:10006383-1781107200-1781118000@refk-mstein.ch
SUMMARY:DO IT NOW – JUGENDTREFF
DESCRIPTION:Jeden Mittwoch von 16:00 – 19 Uhr sind die Jugendräume des Kirchgemeindehauses für alle Jugendlichen ab der 7. Klasse offen.\nBillard\, Döggelikasten\, Leinwand zum Gamen und vieles mehr!\nDie Sofaecken laden zum Chillen ein\, es gibt eine Bar mit Getränken und feinen Snacks. Um 18:00 Uhr gibt es jeweils ein gemeinsames Abendessen mit Pizza\, Pasta oder sonstigen jugendkonformen Menus :). \n Instagram \nKontakt:\nMichèle Tanner\, Sozialdiakonin i.A.\nm.tanner [at] refk-mstein.ch\n+41 77 267 64 621
URL:https://refk-mstein.ch/event/do-it-now-jugendtreff-3-2/2026-06-10/
LOCATION:KGH\, Lärchenstrasse 3\, Münchenstein\, 4142
CATEGORIES:Aktuell,Jugendliche
ATTACH;FMTTYPE=image/jpeg:https://refk-mstein.ch/wp-content/uploads/2024/05/karten-anlaesse-Jugendtreff.jpg
END:VEVENT
BEGIN:VEVENT
DTSTART;TZID=Europe/Zurich:20260610T201500
DTEND;TZID=Europe/Zurich:20260610T220000
DTSTAMP:20260419T182027
CREATED:20260219T072754Z
LAST-MODIFIED:20260219T073041Z
UID:10005377-1781122500-1781128800@refk-mstein.ch
SUMMARY:Chor-Lab
DESCRIPTION:Proben jeden Mittwoch (ausser Schulferien)\nKontakt: Tatjana Gazdik\, hubergazdik@sunrise.ch
URL:https://refk-mstein.ch/event/chor-lab-2-2-2/2026-06-10/
LOCATION:KGH\, Lärchenstrasse 3\, Münchenstein\, 4142
CATEGORIES:Chorproben
ATTACH;FMTTYPE=image/jpeg:https://refk-mstein.ch/wp-content/uploads/2024/02/anlass-chorlab.jpg
END:VEVENT
BEGIN:VEVENT
DTSTART;TZID=Europe/Zurich:20260611T143000
DTEND;TZID=Europe/Zurich:20260611T160000
DTSTAMP:20260419T182027
CREATED:20240203T130622Z
LAST-MODIFIED:20260225T082454Z
UID:10006956-1781188200-1781193600@refk-mstein.ch
SUMMARY:Geschichtenabenteuer
DESCRIPTION:Für Kindern (Kindergarten bis 2. Klasse) \nHerzliche Einladung an alle Kindergartenkinder bis 2. Klasse. \nZusammen mit der Kirchenmaus Johanna tauchen wir in eine Geschichte ab. Nach dem Zvieri können sich die Kinder kreativ austoben. Das Geschichtenabenteuer gibt es einmal pro Monat donnerstags von 14.30 bis 16.00 Uhr – wir freuen uns\, wenn du mit dabei bist. Wir bitten um Anmeldung\, das Angebot ist kostenlos. \nKontakt und Anmeldung:\nBeatrice Rediger\n061 411 18 19 oder unter\nb.rediger [at] bluewin.ch
URL:https://refk-mstein.ch/event/geschichtenabenteuer/2026-06-11/
LOCATION:KGH\, Lärchenstrasse 3\, Münchenstein\, 4142
CATEGORIES:KInder
ATTACH;FMTTYPE=image/jpeg:https://refk-mstein.ch/wp-content/uploads/2024/02/anlaesse-geschichtenabenteuer.jpg
END:VEVENT
BEGIN:VEVENT
DTSTART;TZID=Europe/Zurich:20260611T153000
DTEND;TZID=Europe/Zurich:20260611T163000
DTSTAMP:20260419T182027
CREATED:20260417T072420Z
LAST-MODIFIED:20260417T072420Z
UID:10007037-1781191800-1781195400@refk-mstein.ch
SUMMARY:Allgemeiner Gottesdienst
DESCRIPTION:Allgemeiner Gottesdienst\nLiturgie: Pfarrer Markus Perrenoud
URL:https://refk-mstein.ch/event/allgemeiner-gottesdienst-2/
LOCATION:Stiftung Hofmatt\, Pumpwerkstrasse 3\, Münchenstein\, Basel-Landschaft\, 4142\, Schweiz
CATEGORIES:Gottesdienste
ATTACH;FMTTYPE=image/jpeg:https://refk-mstein.ch/wp-content/uploads/2024/02/anlaesse-hofmatt.jpg
END:VEVENT
BEGIN:VEVENT
DTSTART;TZID=Europe/Zurich:20260611T193000
DTEND;TZID=Europe/Zurich:20260611T213000
DTSTAMP:20260419T182027
CREATED:20251215T142339Z
LAST-MODIFIED:20251215T152429Z
UID:10001598-1781206200-1781213400@refk-mstein.ch
SUMMARY:Jubilate Chor
DESCRIPTION:Der Jubilate Chor\, anno 1926 gegründet\, ist eine dynamische Gruppe von rund 20 aktiven Sängerinnen und Sängern\, geleitet von unserer Dirigentin Ilse Zeuner. \nHöhepunkt des Jahres ist unser Herbstkonzert mit Orchester und talentierten SolistInnen. Daneben erfreuen wir unsere Gemeinde über das ganze Jahr an kirchlichen Feiertagen und besonderen Anlässen mit musikalischen Darbietungen. \nUnsere Proben finden jeweils am Donnerstagabend von 19.30 bis 21.30 Uhr im Kirchgemeindehaus statt (ausser in den Schulferien). Gerne können Sie bei uns mitsingen oder Mitglied werden. Auch laden wir singfreudige Menschen herzlich ein\, als Gastsängerinnen und Gastsänger an unseren vielfältigen Projekten mitzuwirken. Interessiert? Dann kommen Sie einfach einmal schnuppern. \nWeitere Informationen finden Sie unter www.jubilate-mstein.ch
URL:https://refk-mstein.ch/event/jubilate-chor-2-2/2026-06-11/
LOCATION:KGH\, Lärchenstrasse 3\, Münchenstein\, 4142
CATEGORIES:Chorproben,Erwachsene
ATTACH;FMTTYPE=image/jpeg:https://refk-mstein.ch/wp-content/uploads/2024/02/jubilate-chor-refk-mstein.jpg
END:VEVENT
BEGIN:VEVENT
DTSTART;TZID=Europe/Zurich:20260612T093000
DTEND;TZID=Europe/Zurich:20260612T113000
DTSTAMP:20260419T182027
CREATED:20241218T154023Z
LAST-MODIFIED:20260225T083137Z
UID:10006970-1781256600-1781263800@refk-mstein.ch
SUMMARY:Offener Eltern-Kind-Treff
DESCRIPTION:Für Eltern mit Kindern von 0 bis 5 Jahre \nJeden Freitagmorgen (Ausnahme Schulferien) sind alle Eltern unabhängig von ihrer Konfession und Kirchenzugehörigkeit eingeladen\, mit Ihren Kleinkindern in lockerer Atmosphäre einen schönen Vormittag zu erleben. Wir starten mit einem Singkreis\, essen Znüni und basteln viel. Natürlich gibt es auch tolle Spielsachen und Platz zum Toben. Das Angebot ist kostenlos\, eine Anmeldung ist nicht nötig. \nKontakt:\nMichèle Tanner\, Sozialdiakonin i.A.\n077 267 64 62 oder unter m.tanner@refk-mstein.ch \nOder\nStefanie Schweri\, Familienpastoral\n077 266 36 42 oder unter\nschweri@pfarrei-muenchenstein.ch
URL:https://refk-mstein.ch/event/offener-eltern-kind-treff-3-2/2026-06-12/
LOCATION:KGH\, Lärchenstrasse 3\, Münchenstein\, 4142
CATEGORIES:Aktuell,KInder
ATTACH;FMTTYPE=image/jpeg:https://refk-mstein.ch/wp-content/uploads/2024/02/eltern-kind-treff.jpg
END:VEVENT
BEGIN:VEVENT
DTSTART;TZID=Europe/Zurich:20260614T101500
DTEND;TZID=Europe/Zurich:20260614T111500
DTSTAMP:20260419T182027
CREATED:20260417T072545Z
LAST-MODIFIED:20260417T084542Z
UID:10007038-1781432100-1781435700@refk-mstein.ch
SUMMARY:Gottesdienst\, Orgel Plus und KGV
DESCRIPTION:Heute gibt die Orgel den Takt und Ton an. Dona nobis pacem – Organist Lukas Frank „predigt“ über den Frieden.\nIm Anschluss findet die ordentliche Kirchgemeindeversammlung statt\, der Ratschlag liegt zur rechten Zeit auf. \n10.00 Uhr KGH\, Gebetszeit\n10.15 Uhr\, Orgel Plus\nPredigt: Organist Lukas Frank\nAnschliessend KGV \n 
URL:https://refk-mstein.ch/event/gd-orgel-plus/
LOCATION:KGH\, Lärchenstrasse 3\, Münchenstein\, 4142
CATEGORIES:Gottesdienste
ATTACH;FMTTYPE=image/jpeg:https://refk-mstein.ch/wp-content/uploads/2024/02/refk-mstein-KGH-Gottesdienste.jpg
END:VEVENT
END:VCALENDAR