BEGIN:VCALENDAR
VERSION:2.0
PRODID:-//Reformierte Kirchgemeinde Münchenstein - ECPv6.15.20//NONSGML v1.0//EN
CALSCALE:GREGORIAN
METHOD:PUBLISH
X-ORIGINAL-URL:https://refk-mstein.ch
X-WR-CALDESC:Veranstaltungen für Reformierte Kirchgemeinde Münchenstein
REFRESH-INTERVAL;VALUE=DURATION:PT1H
X-Robots-Tag:noindex
X-PUBLISHED-TTL:PT1H
BEGIN:VTIMEZONE
TZID:Europe/Zurich
BEGIN:DAYLIGHT
TZOFFSETFROM:+0100
TZOFFSETTO:+0200
TZNAME:CEST
DTSTART:20250330T010000
END:DAYLIGHT
BEGIN:STANDARD
TZOFFSETFROM:+0200
TZOFFSETTO:+0100
TZNAME:CET
DTSTART:20251026T010000
END:STANDARD
BEGIN:DAYLIGHT
TZOFFSETFROM:+0100
TZOFFSETTO:+0200
TZNAME:CEST
DTSTART:20260329T010000
END:DAYLIGHT
BEGIN:STANDARD
TZOFFSETFROM:+0200
TZOFFSETTO:+0100
TZNAME:CET
DTSTART:20261025T010000
END:STANDARD
BEGIN:DAYLIGHT
TZOFFSETFROM:+0100
TZOFFSETTO:+0200
TZNAME:CEST
DTSTART:20270328T010000
END:DAYLIGHT
BEGIN:STANDARD
TZOFFSETFROM:+0200
TZOFFSETTO:+0100
TZNAME:CET
DTSTART:20271031T010000
END:STANDARD
END:VTIMEZONE
BEGIN:VEVENT
DTSTART;TZID=Europe/Zurich:20260422T143000
DTEND;TZID=Europe/Zurich:20260422T170000
DTSTAMP:20260419T182841
CREATED:20250416T072347Z
LAST-MODIFIED:20260219T075628Z
UID:10005643-1776868200-1776877200@refk-mstein.ch
SUMMARY:Horizonte
DESCRIPTION:Kann man als Biologe an Gott glauben?\nUnd wenn ja: warum?\nIst biologisches Wissen mit dem christlichen Glauben an Gott vereinbar? \nReferat und Diskussion mit Prof. Dr. Jürg Meier\, emer. Professor für Zoologie an der Universität Basel\, Präsident der Basler Bibelgesellschaft und ehrenamtlicher Seelsorger der Neuapostolischen Kirche.
URL:https://refk-mstein.ch/event/horizonte/
LOCATION:Römisch-katholische Pfarrei\, Loogstrasse 22\, Münchenstein\, Baselland\, 4142\, Schweiz
CATEGORIES:Anlässe
ATTACH;FMTTYPE=image/jpeg:https://refk-mstein.ch/wp-content/uploads/2024/08/karten-anlaesse-Nachmittage.jpg
END:VEVENT
BEGIN:VEVENT
DTSTART;TZID=Europe/Zurich:20260422T160000
DTEND;TZID=Europe/Zurich:20260422T190000
DTSTAMP:20260419T182841
CREATED:20251215T155921Z
LAST-MODIFIED:20251215T160512Z
UID:10006376-1776873600-1776884400@refk-mstein.ch
SUMMARY:DO IT NOW – JUGENDTREFF
DESCRIPTION:Jeden Mittwoch von 16:00 – 19 Uhr sind die Jugendräume des Kirchgemeindehauses für alle Jugendlichen ab der 7. Klasse offen.\nBillard\, Döggelikasten\, Leinwand zum Gamen und vieles mehr!\nDie Sofaecken laden zum Chillen ein\, es gibt eine Bar mit Getränken und feinen Snacks. Um 18:00 Uhr gibt es jeweils ein gemeinsames Abendessen mit Pizza\, Pasta oder sonstigen jugendkonformen Menus :). \n Instagram \nKontakt:\nMichèle Tanner\, Sozialdiakonin i.A.\nm.tanner [at] refk-mstein.ch\n+41 77 267 64 621
URL:https://refk-mstein.ch/event/do-it-now-jugendtreff-3-2/2026-04-22/
LOCATION:KGH\, Lärchenstrasse 3\, Münchenstein\, 4142
CATEGORIES:Aktuell,Jugendliche
ATTACH;FMTTYPE=image/jpeg:https://refk-mstein.ch/wp-content/uploads/2024/05/karten-anlaesse-Jugendtreff.jpg
END:VEVENT
BEGIN:VEVENT
DTSTART;TZID=Europe/Zurich:20260422T201500
DTEND;TZID=Europe/Zurich:20260422T220000
DTSTAMP:20260419T182841
CREATED:20260219T072754Z
LAST-MODIFIED:20260219T073041Z
UID:10005370-1776888900-1776895200@refk-mstein.ch
SUMMARY:Chor-Lab
DESCRIPTION:Proben jeden Mittwoch (ausser Schulferien)\nKontakt: Tatjana Gazdik\, hubergazdik@sunrise.ch
URL:https://refk-mstein.ch/event/chor-lab-2-2-2/2026-04-22/
LOCATION:KGH\, Lärchenstrasse 3\, Münchenstein\, 4142
CATEGORIES:Chorproben
ATTACH;FMTTYPE=image/jpeg:https://refk-mstein.ch/wp-content/uploads/2024/02/anlass-chorlab.jpg
END:VEVENT
END:VCALENDAR