BEGIN:VCALENDAR
VERSION:2.0
PRODID:-//Reformierte Kirchgemeinde Münchenstein - ECPv6.15.20//NONSGML v1.0//EN
CALSCALE:GREGORIAN
METHOD:PUBLISH
X-ORIGINAL-URL:https://refk-mstein.ch
X-WR-CALDESC:Veranstaltungen für Reformierte Kirchgemeinde Münchenstein
REFRESH-INTERVAL;VALUE=DURATION:PT1H
X-Robots-Tag:noindex
X-PUBLISHED-TTL:PT1H
BEGIN:VTIMEZONE
TZID:Europe/Zurich
BEGIN:DAYLIGHT
TZOFFSETFROM:+0100
TZOFFSETTO:+0200
TZNAME:CEST
DTSTART:20250330T010000
END:DAYLIGHT
BEGIN:STANDARD
TZOFFSETFROM:+0200
TZOFFSETTO:+0100
TZNAME:CET
DTSTART:20251026T010000
END:STANDARD
BEGIN:DAYLIGHT
TZOFFSETFROM:+0100
TZOFFSETTO:+0200
TZNAME:CEST
DTSTART:20260329T010000
END:DAYLIGHT
BEGIN:STANDARD
TZOFFSETFROM:+0200
TZOFFSETTO:+0100
TZNAME:CET
DTSTART:20261025T010000
END:STANDARD
BEGIN:DAYLIGHT
TZOFFSETFROM:+0100
TZOFFSETTO:+0200
TZNAME:CEST
DTSTART:20270328T010000
END:DAYLIGHT
BEGIN:STANDARD
TZOFFSETFROM:+0200
TZOFFSETTO:+0100
TZNAME:CET
DTSTART:20271031T010000
END:STANDARD
END:VTIMEZONE
BEGIN:VEVENT
DTSTART;TZID=Europe/Zurich:20260423T190000
DTEND;TZID=Europe/Zurich:20260423T210000
DTSTAMP:20260419T183030
CREATED:20260324T083453Z
LAST-MODIFIED:20260324T083456Z
UID:10006977-1776970800-1776978000@refk-mstein.ch
SUMMARY:Frauenzimmer
DESCRIPTION:Herzliche Einladung\nAm 23. April treffen wir uns wieder – diesmal dreht sich alles um Karriere & Kinder. \nMutter und Managerin – geht das?\nCarmen Waldburger (36) studierte Maschinenbau an der ETH Zürich und gehörte damit zu den rund 7 % Frauen in diesem Studiengang. Sie erzählt von ihrem Weg\, Familie und Beruf erfolgreich zu verbinden. \nFreu dich auf einen inspirierenden Abend! \nJetzt anmelden – wir freuen uns sehr auf dich! 😊 \n Flyer\n			\n			\n				\n				\n				\n				\n			\n				\n				\n				\n				\n				\n				\n				Jetzt anmelden\n			\n			\n				\n				\n				\n				\n				\n				Jetzt anmelden
URL:https://refk-mstein.ch/event/frauenzimmer-2/
LOCATION:KGH\, Lärchenstrasse 3\, Münchenstein\, 4142
CATEGORIES:Anlässe,jetzt anmelden
ATTACH;FMTTYPE=image/jpeg:https://refk-mstein.ch/wp-content/uploads/2025/08/Anlasskarte-Frauenzimmer.jpg
END:VEVENT
BEGIN:VEVENT
DTSTART;TZID=Europe/Zurich:20260423T193000
DTEND;TZID=Europe/Zurich:20260423T213000
DTSTAMP:20260419T183030
CREATED:20251215T142339Z
LAST-MODIFIED:20251215T152429Z
UID:10001591-1776972600-1776979800@refk-mstein.ch
SUMMARY:Jubilate Chor
DESCRIPTION:Der Jubilate Chor\, anno 1926 gegründet\, ist eine dynamische Gruppe von rund 20 aktiven Sängerinnen und Sängern\, geleitet von unserer Dirigentin Ilse Zeuner. \nHöhepunkt des Jahres ist unser Herbstkonzert mit Orchester und talentierten SolistInnen. Daneben erfreuen wir unsere Gemeinde über das ganze Jahr an kirchlichen Feiertagen und besonderen Anlässen mit musikalischen Darbietungen. \nUnsere Proben finden jeweils am Donnerstagabend von 19.30 bis 21.30 Uhr im Kirchgemeindehaus statt (ausser in den Schulferien). Gerne können Sie bei uns mitsingen oder Mitglied werden. Auch laden wir singfreudige Menschen herzlich ein\, als Gastsängerinnen und Gastsänger an unseren vielfältigen Projekten mitzuwirken. Interessiert? Dann kommen Sie einfach einmal schnuppern. \nWeitere Informationen finden Sie unter www.jubilate-mstein.ch
URL:https://refk-mstein.ch/event/jubilate-chor-2-2/2026-04-23/
LOCATION:KGH\, Lärchenstrasse 3\, Münchenstein\, 4142
CATEGORIES:Chorproben,Erwachsene
ATTACH;FMTTYPE=image/jpeg:https://refk-mstein.ch/wp-content/uploads/2024/02/jubilate-chor-refk-mstein.jpg
END:VEVENT
END:VCALENDAR