BEGIN:VCALENDAR
VERSION:2.0
PRODID:-//Reformierte Kirchgemeinde Münchenstein - ECPv6.15.20//NONSGML v1.0//EN
CALSCALE:GREGORIAN
METHOD:PUBLISH
X-ORIGINAL-URL:https://refk-mstein.ch
X-WR-CALDESC:Veranstaltungen für Reformierte Kirchgemeinde Münchenstein
REFRESH-INTERVAL;VALUE=DURATION:PT1H
X-Robots-Tag:noindex
X-PUBLISHED-TTL:PT1H
BEGIN:VTIMEZONE
TZID:Europe/Zurich
BEGIN:DAYLIGHT
TZOFFSETFROM:+0100
TZOFFSETTO:+0200
TZNAME:CEST
DTSTART:20250330T010000
END:DAYLIGHT
BEGIN:STANDARD
TZOFFSETFROM:+0200
TZOFFSETTO:+0100
TZNAME:CET
DTSTART:20251026T010000
END:STANDARD
BEGIN:DAYLIGHT
TZOFFSETFROM:+0100
TZOFFSETTO:+0200
TZNAME:CEST
DTSTART:20260329T010000
END:DAYLIGHT
BEGIN:STANDARD
TZOFFSETFROM:+0200
TZOFFSETTO:+0100
TZNAME:CET
DTSTART:20261025T010000
END:STANDARD
BEGIN:DAYLIGHT
TZOFFSETFROM:+0100
TZOFFSETTO:+0200
TZNAME:CEST
DTSTART:20270328T010000
END:DAYLIGHT
BEGIN:STANDARD
TZOFFSETFROM:+0200
TZOFFSETTO:+0100
TZNAME:CET
DTSTART:20271031T010000
END:STANDARD
END:VTIMEZONE
BEGIN:VEVENT
DTSTART;TZID=Europe/Zurich:20260426T101500
DTEND;TZID=Europe/Zurich:20260426T111500
DTSTAMP:20260419T182941
CREATED:20260210T104700Z
LAST-MODIFIED:20260210T104700Z
UID:10006915-1777198500-1777202100@refk-mstein.ch
SUMMARY:Gottesdienst
DESCRIPTION:10.15 Uhr\, modern\nPredigt: Pfr. Markus Perrenoud\nKollekte: Mission Evangélique Assemblée Chrétienne de Bâle \n 
URL:https://refk-mstein.ch/event/gottesdienst-5/
LOCATION:KGH\, Lärchenstrasse 3\, Münchenstein\, 4142
CATEGORIES:Gottesdienste
ATTACH;FMTTYPE=image/jpeg:https://refk-mstein.ch/wp-content/uploads/2024/02/refk-mstein-KGH-Gottesdienste.jpg
END:VEVENT
BEGIN:VEVENT
DTSTART;TZID=Europe/Zurich:20260426T111500
DTEND;TZID=Europe/Zurich:20260426T121500
DTSTAMP:20260419T182941
CREATED:20260324T111407Z
LAST-MODIFIED:20260324T111547Z
UID:10006979-1777202100-1777205700@refk-mstein.ch
SUMMARY:Gemeindeworkshop
DESCRIPTION:Alles neu? Gemeinsam auf dem Weg in die Zukunft\nSonntag\, 26. April\, nach dem Gottesdienst ab 11.15 Uhr \nUnsere Kirchgemeinde befindet sich mitten in einem Veränderungsprozess. Aufgrund knapperer Finanzen mussten\nPensen empfindlich gekürzt und wertvolle Mitarbeitende verabschiedet werden. \nGemeinsam wollen wir klären:\nWiegeht es weiter?\nWo setzen wir unsere Kräfte am besten ein?\nWovon müssen wir uns gegebenenfalls auch verabschieden? \nDie Kirchenpflege lädt Sie herzlich ein\, dabei mitzudenken und mitzureden!\nModeriert durch Gerhard Bärtschi entwickeln wir im World-Café-Format gemeinsam Perspektiven für die Zukunft unserer Gemeinde.\nDer Workshop dauert 60 Minuten. \nIm Anschluss gibt es eine Teilete – viele Dank für Ihre kulinarischen Beiträge zum Buffet!\nDie Kirchenpflege und das Gemeindeteam
URL:https://refk-mstein.ch/event/gemeindeworkshop/
LOCATION:KGH\, Lärchenstrasse 3\, Münchenstein\, 4142
CATEGORIES:Anlässe
ATTACH;FMTTYPE=image/jpeg:https://refk-mstein.ch/wp-content/uploads/2024/02/refk-mstein-KGH-Gottesdienste.jpg
END:VEVENT
END:VCALENDAR