BEGIN:VCALENDAR
VERSION:2.0
PRODID:-//Reformierte Kirchgemeinde Münchenstein - ECPv6.15.20//NONSGML v1.0//EN
CALSCALE:GREGORIAN
METHOD:PUBLISH
X-WR-CALNAME:Reformierte Kirchgemeinde Münchenstein
X-ORIGINAL-URL:https://refk-mstein.ch
X-WR-CALDESC:Veranstaltungen für Reformierte Kirchgemeinde Münchenstein
REFRESH-INTERVAL;VALUE=DURATION:PT1H
X-Robots-Tag:noindex
X-PUBLISHED-TTL:PT1H
BEGIN:VTIMEZONE
TZID:Europe/Zurich
BEGIN:DAYLIGHT
TZOFFSETFROM:+0100
TZOFFSETTO:+0200
TZNAME:CEST
DTSTART:20250330T010000
END:DAYLIGHT
BEGIN:STANDARD
TZOFFSETFROM:+0200
TZOFFSETTO:+0100
TZNAME:CET
DTSTART:20251026T010000
END:STANDARD
BEGIN:DAYLIGHT
TZOFFSETFROM:+0100
TZOFFSETTO:+0200
TZNAME:CEST
DTSTART:20260329T010000
END:DAYLIGHT
BEGIN:STANDARD
TZOFFSETFROM:+0200
TZOFFSETTO:+0100
TZNAME:CET
DTSTART:20261025T010000
END:STANDARD
BEGIN:DAYLIGHT
TZOFFSETFROM:+0100
TZOFFSETTO:+0200
TZNAME:CEST
DTSTART:20270328T010000
END:DAYLIGHT
BEGIN:STANDARD
TZOFFSETFROM:+0200
TZOFFSETTO:+0100
TZNAME:CET
DTSTART:20271031T010000
END:STANDARD
END:VTIMEZONE
BEGIN:VEVENT
DTSTART;TZID=Europe/Zurich:20260414T140000
DTEND;TZID=Europe/Zurich:20260414T170000
DTSTAMP:20260419T170230
CREATED:20260219T074123Z
LAST-MODIFIED:20260219T074239Z
UID:10006644-1776175200-1776186000@refk-mstein.ch
SUMMARY:Kreativ Gruppe
DESCRIPTION:Wir sind eine Gruppe\, die sich regelmässig zur Pflege unseres Hobbys und der Gemeinschaft trifft.  \nSchwerpunktmässig arbeiten wir mit Textilien. Das Resultat unserer kreativen Arbeiten ist am Bazar der Kirchgemeinde zu sehen – und zu kaufen! Wer Freude am Werken mit Gleichgesinnten hat\, ist bei uns herzlich willkommen. Wir treffen uns jeweils am Dienstag und Donnerstag Nachmittag von 14 bis 17 Uhr im Kirchgemeindehaus (ausser Schulferien). Interessierte sind herzlich eingeladen bei uns vorbeizuschauen. \nKontakt:\nSekretariat \nTel.: 061 411 96 74
URL:https://refk-mstein.ch/event/kreativ-gruppe-2-2-4-2/2026-04-14/
LOCATION:KGH\, Lärchenstrasse 3\, Münchenstein\, 4142
CATEGORIES:Erwachsene
ATTACH;FMTTYPE=image/jpeg:https://refk-mstein.ch/wp-content/uploads/2024/02/anlass-kreativ.jpg
END:VEVENT
BEGIN:VEVENT
DTSTART;TZID=Europe/Zurich:20260414T183000
DTEND;TZID=Europe/Zurich:20260414T220000
DTSTAMP:20260419T170230
CREATED:20251215T150754Z
LAST-MODIFIED:20251215T151213Z
UID:10006245-1776191400-1776204000@refk-mstein.ch
SUMMARY:Nähatelier Lorisa
DESCRIPTION:Frauen mit Migrationshintergrund\, die gerne handwerklich arbeiten und eine vertrauensvolle Atmosphäre schätzen\, sind herzlich willkommen. Aus gebrauchten Stoffen werden verschiedene Gegenstände hergestellt: Handtaschen\, Kissenbezüge\, Schmuck. \nDie Kaffeepause bietet Gelegenheit zum Plaudern und Kennenlernen. Ebenso haben die Teilnehmenden die Möglichkeit\, Seelsorge und Begleitung in Lebensfragen in Anspruch zu nehmen. Die Kurse finden jährlich in zwei Blöcken statt: März bis Juni und August bis November\, jeweils 2 mal pro Woche. \nKontakt:\nLorna Barra (pastora)\npastoralo [at] yahoo.es \nTel.: +41 76 257 36 70
URL:https://refk-mstein.ch/event/naehatelier-lorisa-2/2026-04-14/
LOCATION:KGH\, Lärchenstrasse 3\, Münchenstein\, 4142
CATEGORIES:Erwachsene
ATTACH;FMTTYPE=image/jpeg:https://refk-mstein.ch/wp-content/uploads/2024/02/anlass-lorisa.jpg
END:VEVENT
BEGIN:VEVENT
DTSTART;TZID=Europe/Zurich:20260415T160000
DTEND;TZID=Europe/Zurich:20260415T190000
DTSTAMP:20260419T170230
CREATED:20251215T155921Z
LAST-MODIFIED:20251215T160512Z
UID:10006375-1776268800-1776279600@refk-mstein.ch
SUMMARY:DO IT NOW – JUGENDTREFF
DESCRIPTION:Jeden Mittwoch von 16:00 – 19 Uhr sind die Jugendräume des Kirchgemeindehauses für alle Jugendlichen ab der 7. Klasse offen.\nBillard\, Döggelikasten\, Leinwand zum Gamen und vieles mehr!\nDie Sofaecken laden zum Chillen ein\, es gibt eine Bar mit Getränken und feinen Snacks. Um 18:00 Uhr gibt es jeweils ein gemeinsames Abendessen mit Pizza\, Pasta oder sonstigen jugendkonformen Menus :). \n Instagram \nKontakt:\nMichèle Tanner\, Sozialdiakonin i.A.\nm.tanner [at] refk-mstein.ch\n+41 77 267 64 621
URL:https://refk-mstein.ch/event/do-it-now-jugendtreff-3-2/2026-04-15/
LOCATION:KGH\, Lärchenstrasse 3\, Münchenstein\, 4142
CATEGORIES:Aktuell,Jugendliche
ATTACH;FMTTYPE=image/jpeg:https://refk-mstein.ch/wp-content/uploads/2024/05/karten-anlaesse-Jugendtreff.jpg
END:VEVENT
BEGIN:VEVENT
DTSTART;TZID=Europe/Zurich:20260415T201500
DTEND;TZID=Europe/Zurich:20260415T220000
DTSTAMP:20260419T170230
CREATED:20260219T072754Z
LAST-MODIFIED:20260219T073041Z
UID:10005369-1776284100-1776290400@refk-mstein.ch
SUMMARY:Chor-Lab
DESCRIPTION:Proben jeden Mittwoch (ausser Schulferien)\nKontakt: Tatjana Gazdik\, hubergazdik@sunrise.ch
URL:https://refk-mstein.ch/event/chor-lab-2-2-2/2026-04-15/
LOCATION:KGH\, Lärchenstrasse 3\, Münchenstein\, 4142
CATEGORIES:Chorproben
ATTACH;FMTTYPE=image/jpeg:https://refk-mstein.ch/wp-content/uploads/2024/02/anlass-chorlab.jpg
END:VEVENT
BEGIN:VEVENT
DTSTART;TZID=Europe/Zurich:20260416T143000
DTEND;TZID=Europe/Zurich:20260416T160000
DTSTAMP:20260419T170230
CREATED:20240203T130622Z
LAST-MODIFIED:20260225T082454Z
UID:10006954-1776349800-1776355200@refk-mstein.ch
SUMMARY:Geschichtenabenteuer
DESCRIPTION:Für Kindern (Kindergarten bis 2. Klasse) \nHerzliche Einladung an alle Kindergartenkinder bis 2. Klasse. \nZusammen mit der Kirchenmaus Johanna tauchen wir in eine Geschichte ab. Nach dem Zvieri können sich die Kinder kreativ austoben. Das Geschichtenabenteuer gibt es einmal pro Monat donnerstags von 14.30 bis 16.00 Uhr – wir freuen uns\, wenn du mit dabei bist. Wir bitten um Anmeldung\, das Angebot ist kostenlos. \nKontakt und Anmeldung:\nBeatrice Rediger\n061 411 18 19 oder unter\nb.rediger [at] bluewin.ch
URL:https://refk-mstein.ch/event/geschichtenabenteuer/2026-04-16/
LOCATION:KGH\, Lärchenstrasse 3\, Münchenstein\, 4142
CATEGORIES:KInder
ATTACH;FMTTYPE=image/jpeg:https://refk-mstein.ch/wp-content/uploads/2024/02/anlaesse-geschichtenabenteuer.jpg
END:VEVENT
BEGIN:VEVENT
DTSTART;TZID=Europe/Zurich:20260416T193000
DTEND;TZID=Europe/Zurich:20260416T213000
DTSTAMP:20260419T170230
CREATED:20251215T142339Z
LAST-MODIFIED:20251215T152429Z
UID:10001590-1776367800-1776375000@refk-mstein.ch
SUMMARY:Jubilate Chor
DESCRIPTION:Der Jubilate Chor\, anno 1926 gegründet\, ist eine dynamische Gruppe von rund 20 aktiven Sängerinnen und Sängern\, geleitet von unserer Dirigentin Ilse Zeuner. \nHöhepunkt des Jahres ist unser Herbstkonzert mit Orchester und talentierten SolistInnen. Daneben erfreuen wir unsere Gemeinde über das ganze Jahr an kirchlichen Feiertagen und besonderen Anlässen mit musikalischen Darbietungen. \nUnsere Proben finden jeweils am Donnerstagabend von 19.30 bis 21.30 Uhr im Kirchgemeindehaus statt (ausser in den Schulferien). Gerne können Sie bei uns mitsingen oder Mitglied werden. Auch laden wir singfreudige Menschen herzlich ein\, als Gastsängerinnen und Gastsänger an unseren vielfältigen Projekten mitzuwirken. Interessiert? Dann kommen Sie einfach einmal schnuppern. \nWeitere Informationen finden Sie unter www.jubilate-mstein.ch
URL:https://refk-mstein.ch/event/jubilate-chor-2-2/2026-04-16/
LOCATION:KGH\, Lärchenstrasse 3\, Münchenstein\, 4142
CATEGORIES:Chorproben,Erwachsene
ATTACH;FMTTYPE=image/jpeg:https://refk-mstein.ch/wp-content/uploads/2024/02/jubilate-chor-refk-mstein.jpg
END:VEVENT
BEGIN:VEVENT
DTSTART;TZID=Europe/Zurich:20260417T093000
DTEND;TZID=Europe/Zurich:20260417T113000
DTSTAMP:20260419T170230
CREATED:20241218T154023Z
LAST-MODIFIED:20260225T083137Z
UID:10006962-1776418200-1776425400@refk-mstein.ch
SUMMARY:Offener Eltern-Kind-Treff
DESCRIPTION:Für Eltern mit Kindern von 0 bis 5 Jahre \nJeden Freitagmorgen (Ausnahme Schulferien) sind alle Eltern unabhängig von ihrer Konfession und Kirchenzugehörigkeit eingeladen\, mit Ihren Kleinkindern in lockerer Atmosphäre einen schönen Vormittag zu erleben. Wir starten mit einem Singkreis\, essen Znüni und basteln viel. Natürlich gibt es auch tolle Spielsachen und Platz zum Toben. Das Angebot ist kostenlos\, eine Anmeldung ist nicht nötig. \nKontakt:\nMichèle Tanner\, Sozialdiakonin i.A.\n077 267 64 62 oder unter m.tanner@refk-mstein.ch \nOder\nStefanie Schweri\, Familienpastoral\n077 266 36 42 oder unter\nschweri@pfarrei-muenchenstein.ch
URL:https://refk-mstein.ch/event/offener-eltern-kind-treff-3-2/2026-04-17/
LOCATION:KGH\, Lärchenstrasse 3\, Münchenstein\, 4142
CATEGORIES:Aktuell,KInder
ATTACH;FMTTYPE=image/jpeg:https://refk-mstein.ch/wp-content/uploads/2024/02/eltern-kind-treff.jpg
END:VEVENT
BEGIN:VEVENT
DTSTART;TZID=Europe/Zurich:20260419T101500
DTEND;TZID=Europe/Zurich:20260419T111500
DTSTAMP:20260419T170230
CREATED:20260210T104533Z
LAST-MODIFIED:20260210T104533Z
UID:10006914-1776593700-1776597300@refk-mstein.ch
SUMMARY:Gottesdienst
DESCRIPTION:10.15 Uhr\, mit Kinderkirche\nPredigt: Pfrin. Annina Rast\nKollekte: Evangelische Frauenhilfe Baselland in Liestal \n 
URL:https://refk-mstein.ch/event/gottesdienst-4/
LOCATION:KGH\, Lärchenstrasse 3\, Münchenstein\, 4142
CATEGORIES:Gottesdienste
ATTACH;FMTTYPE=image/jpeg:https://refk-mstein.ch/wp-content/uploads/2024/02/refk-mstein-KGH-Gottesdienste.jpg
END:VEVENT
BEGIN:VEVENT
DTSTART;TZID=Europe/Zurich:20260419T101500
DTEND;TZID=Europe/Zurich:20260419T111500
DTSTAMP:20260419T170230
CREATED:20260210T105148Z
LAST-MODIFIED:20260210T105554Z
UID:10006917-1776593700-1776597300@refk-mstein.ch
SUMMARY:Kinderkirche
DESCRIPTION:10.15 Uhr\, Gottesdienst mit Kinderkirche\nPredigt: Pfrin. Annina Rast\nKollekte: Evangelische Frauenhilfe Baselland in Liestal \n 
URL:https://refk-mstein.ch/event/kinderkirche/
LOCATION:KGH\, Lärchenstrasse 3\, Münchenstein\, 4142
CATEGORIES:Gottesdienste,Kinder und Familien
ATTACH;FMTTYPE=image/jpeg:https://refk-mstein.ch/wp-content/uploads/2024/02/kinderkirche.jpg
END:VEVENT
END:VCALENDAR